BEGIN:VCALENDAR
VERSION:2.0
PRODID:-//eventon.com NONSGML v1.0//EN
CALSCALE:GREGORIAN
METHOD:PUBLISH
BEGIN:VEVENT
UID:69e5400d818ce
DTSTAMP:20260419T205021Z
DTSTART:20221124
DTEND:20221125
LOCATION:930 Portage Avenue 930 Portage Avenue\,  Winnipeg
SUMMARY:Certified Psychological Health and Safety Training
DESCRIPTION:This two-day course\,  offered by the Canadian Mental Health As
 sociation\,  Manitoba and Winnipeg\,  will assist those working to improve 
 psychological health and safety in their workplace to implement the Nationa
 l Standard for Psychological Health and Safety.&nbsp; This course will buil
 d skills for assessing organizational readiness for change\,  implementing 
 evidence-based methods[..]\nhttps://careforallineducation.com/events/certif
 ied-psychological-health-and-safety-training-3/
URL:https://careforallineducation.com/events/certified-psychological-health-and-safety-training-3/
END:VEVENT
END:VCALENDAR