BEGIN:VCALENDAR
VERSION:2.0
PRODID:-//eventon.com NONSGML v1.0//EN
CALSCALE:GREGORIAN
METHOD:PUBLISH
BEGIN:VEVENT
UID:69e542a1ef6c7
DTSTAMP:20260419T210121Z
DTSTART:20230228T230000Z
DTEND:20230301T010000Z
LOCATION:Canadian Mental Health Association\,  Manitoba and Winnipeg 930 Portage Ave.
SUMMARY:Communicating Well  - Online Course
DESCRIPTION:This course will explore communication styles and help you to u
 nderstand your own as well as others&#8217;. We will be looking at the ways
  in which we communicate\,  whether we are aware of them or not\,  and disc
 uss tips on being assertive. We will explore what it means to be[..]\nhttps
 ://careforallineducation.com/fr/events/how-to-communicate-better-online-cou
 rse/
URL:https://careforallineducation.com/fr/events/how-to-communicate-better-online-course/
END:VEVENT
END:VCALENDAR